BEGIN:VCALENDAR
VERSION:2.0
PRODID:-//National Accident Repair Group - ECPv6.15.20//NONSGML v1.0//EN
CALSCALE:GREGORIAN
METHOD:PUBLISH
X-WR-CALNAME:National Accident Repair Group
X-ORIGINAL-URL:https://www.national-arg.co.uk
X-WR-CALDESC:Events for National Accident Repair Group
REFRESH-INTERVAL;VALUE=DURATION:PT1H
X-Robots-Tag:noindex
X-PUBLISHED-TTL:PT1H
BEGIN:VTIMEZONE
TZID:UTC
BEGIN:STANDARD
TZOFFSETFROM:+0000
TZOFFSETTO:+0000
TZNAME:UTC
DTSTART:20180101T000000
END:STANDARD
END:VTIMEZONE
BEGIN:VEVENT
DTSTART;TZID=UTC:20190118T120000
DTEND;TZID=UTC:20190118T160000
DTSTAMP:20260424T200248
CREATED:20181205T173658Z
LAST-MODIFIED:20181206T125743Z
UID:693-1547812800-1547827200@www.national-arg.co.uk
SUMMARY:Motor Claims Networking Lunch
DESCRIPTION:Friday 18 January is your chance to start the year with a networking lunch with up to 480 industry colleagues who represent the most influential cross-section of the motor claims industry. \nJoining you will be colleagues from the worlds of insurance\, broking\, accident management\, vehicle repair\, legal\, paint & plant supply and medico-legal . \nAs all previous attendees know\, a networking lunch is a great way to cement existing business relationships and to forge profitable new ones. \nCelebrity Guest Speaker: John Ameachi OBE \nDr John Amaechi OBE helps individuals and organisations to improve communication\, leadership and culture as a way to grow\, improve performance and achieve goals. His psychological insight helps people understand the barriers to achievement and overcome them\, transforming and inspiring. He understands motivation and personal development and the roots of success and enables these traits to flourish. He also considers the nature of competition\, the importance of diversity in organisational achievement\, and aligning personal and business values and ethics. John’s experience is unique and his skills appeal to people from all walks of life. \nHe was awarded an OBE for work in the voluntary sector in 2011. \n\n\n\n\n                \n                        \n                            Book Your Place\n                             \n                        \n                        Name*\n                            \n                            \n                                                    \n                                                    First\n                                                \n                            \n                            \n                                                    \n                                                    Last\n                                                \n                            \n                        Company NameYour PositionYour Email*\n                            \n                        Your Telephone Number
URL:https://www.national-arg.co.uk/event/motor-claims-networking-lunch/
LOCATION:Grand Connaught Rooms\, Covent Garden\, London\, United Kingdom
END:VEVENT
END:VCALENDAR